BEGIN:VCALENDAR
VERSION:2.0
PRODID:-//Schlaufuchs - Herford - ECPv4.9.13//NONSGML v1.0//EN
CALSCALE:GREGORIAN
METHOD:PUBLISH
X-WR-CALNAME:Schlaufuchs - Herford
X-ORIGINAL-URL:https://www.schlaufuchs-herford.de
X-WR-CALDESC:Veranstaltungen im Schlaufuchs - Herford
BEGIN:VTIMEZONE
TZID:UTC
BEGIN:STANDARD
TZOFFSETFROM:+0000
TZOFFSETTO:+0000
TZNAME:UTC
DTSTART:20200101T000000
END:STANDARD
END:VTIMEZONE
BEGIN:VEVENT
DTSTART;TZID=UTC:20201014T150000
DTEND;TZID=UTC:20201014T163000
DTSTAMP:20260422T175909
CREATED:20201008T092509Z
LAST-MODIFIED:20201008T092512Z
UID:1912-1602687600-1602693000@www.schlaufuchs-herford.de
SUMMARY:Mittelalter-Rallye-Herford
DESCRIPTION:\n\n\nUnsere Schlaufüchse der Jahrgangsstufe 7 werden gemeinsam mit Caroline an einer historischen Rallye durch Herford teilnehmen und spannende Geschichten aus der Mittelalter Zeit erfahren!\n\n\n\n
URL:https://www.schlaufuchs-herford.de/veranstaltung/mittelalter-rallye-herford
LOCATION:Münsterkirche Herford\, Münsterkirchplatz\, Herford
CATEGORIES:Eltern und Kinder,Fachkräfte
END:VEVENT
END:VCALENDAR