BEGIN:VCALENDAR
VERSION:2.0
PRODID:-//Schlaufuchs - Herford - ECPv4.9.13//NONSGML v1.0//EN
CALSCALE:GREGORIAN
METHOD:PUBLISH
X-WR-CALNAME:Schlaufuchs - Herford
X-ORIGINAL-URL:https://www.schlaufuchs-herford.de
X-WR-CALDESC:Veranstaltungen im Schlaufuchs - Herford
BEGIN:VTIMEZONE
TZID:UTC
BEGIN:STANDARD
TZOFFSETFROM:+0000
TZOFFSETTO:+0000
TZNAME:UTC
DTSTART:20200101T000000
END:STANDARD
END:VTIMEZONE
BEGIN:VEVENT
DTSTART;TZID=UTC:20200929T153000
DTEND;TZID=UTC:20200929T170000
DTSTAMP:20260422T163322
CREATED:20200925T122526Z
LAST-MODIFIED:20200925T122527Z
UID:1900-1601393400-1601398800@www.schlaufuchs-herford.de
SUMMARY:Marta Führung mit Kreativworkshop
DESCRIPTION:\n\n\nUnsere jüngsten Schlaufüchse (Jg. 2020) nehmen gemeinsam an einer Führung durch die aktuelle Marta Ausstellung teil und werden anschließend selbst kreativ!\n\n\n\n
URL:https://www.schlaufuchs-herford.de/veranstaltung/marta-fuehrung-mit-kreativworkshop
LOCATION:Marta Herford
END:VEVENT
END:VCALENDAR